BEGIN:VCALENDAR
VERSION:2.0
PRODID:-//Library Market//iCal Export//EN
BEGIN:VEVENT
SUMMARY:Friday Film
UID:1014
DTSTAMP:20260420T000900Z
DTSTART:20260508T180000Z
DTEND:20260508T200000Z
LOCATION:138 East Lemon Street, Tarpon Springs, FL 34689, United States
ROOM: Friends of the Library Room
DESCRIPTION:Rental Family - An American actor in Tokyo struggling to find 
 purpose lands an unusual gig: working for a Japanese &quot;rental family&q
 uot; agency, playing stand-in roles for strangers. He rediscovers purpose,
  belonging, and the beauty of human connection. Starring Brendan Frasier a
 nd Takehiro Hira. (Rated PG-13, run time 1:49, released 2025 by Twentieth 
 Century Fox.)No registration. Visit tarponlibrary.org/movies for all movie
  titles and times. 
URL:https://tarponsprings.librarycalendar.com/event/friday-film-1014
END:VEVENT
END:VCALENDAR
